Package: lute Version: 1.0.0 Command: rm -rf lute.buildbin-libdir && mkdir lute.buildbin-libdir && /Users/biocbuild/BBS/utils/build-universal.sh lute_1.0.0.tar.gz /Library/Frameworks/R.framework/Resources/bin/R lute.buildbin-libdir StartedAt: 2024-10-17 16:29:23 -0400 (Thu, 17 Oct 2024) EndedAt: 2024-10-17 16:30:47 -0400 (Thu, 17 Oct 2024) EllapsedTime: 84.0 seconds RetCode: 0 Status: OK PackageFile: lute_1.0.0.tgz PackageFileSize: 2.083 MiB