Package: lute Version: 1.0.0 Command: rm -rf lute.buildbin-libdir && mkdir lute.buildbin-libdir && /Users/biocbuild/BBS/utils/build-universal.sh lute_1.0.0.tar.gz /Library/Frameworks/R.framework/Resources/bin/R lute.buildbin-libdir StartedAt: 2024-06-10 00:24:53 -0400 (Mon, 10 Jun 2024) EndedAt: 2024-06-10 00:25:40 -0400 (Mon, 10 Jun 2024) EllapsedTime: 46.8 seconds RetCode: 0 Status: OK PackageFile: lute_1.0.0.tgz PackageFileSize: 2.084 MiB