Package: lute Version: 1.0.0 Command: /Library/Frameworks/R.framework/Resources/bin/R CMD build --keep-empty-dirs --no-resave-data lute StartedAt: 2024-10-17 03:19:57 -0400 (Thu, 17 Oct 2024) EndedAt: 2024-10-17 03:21:03 -0400 (Thu, 17 Oct 2024) EllapsedTime: 66.7 seconds RetCode: 0 Status: OK PackageFile: lute_1.0.0.tar.gz PackageFileSize: 2.241 MiB