Package: lute Version: 1.0.0 Maintainer: Sean K Maden MaintainerEmail: maden.sean at gmail.com git_url: https://git.bioconductor.org/packages/lute git_branch: RELEASE_3_19 git_last_commit: 7a503f8 git_last_commit_date: 2024-04-30 11:52:55 -0400 (Tue, 30 Apr 2024)