Package: lumi Version: 2.56.0 Command: E:\biocbuild\bbs-3.19-bioc\R\bin\R.exe CMD INSTALL lumi StartedAt: 2024-10-16 17:18:47 -0400 (Wed, 16 Oct 2024) EndedAt: 2024-10-16 17:20:07 -0400 (Wed, 16 Oct 2024) EllapsedTime: 80.3 seconds RetCode: 0 Status: OK