Package: lpsymphony Version: 1.32.0 Command: E:\biocbuild\bbs-3.19-bioc\R\bin\R.exe CMD check --no-multiarch --install=check:lpsymphony.install-out.txt --library=E:\biocbuild\bbs-3.19-bioc\R\library --no-vignettes --timings lpsymphony_1.32.0.tar.gz StartedAt: 2024-10-17 02:49:23 -0400 (Thu, 17 Oct 2024) EndedAt: 2024-10-17 02:50:47 -0400 (Thu, 17 Oct 2024) EllapsedTime: 83.6 seconds RetCode: 0 Status: WARNINGS CheckDir: lpsymphony.Rcheck Warnings: 1