Package: lpsymphony Version: 1.32.0 Command: rm -rf lpsymphony.buildbin-libdir && mkdir lpsymphony.buildbin-libdir && E:\biocbuild\bbs-3.19-bioc\R\bin\R.exe CMD INSTALL --build --library=lpsymphony.buildbin-libdir lpsymphony_1.32.0.tar.gz StartedAt: 2024-10-17 08:03:22 -0400 (Thu, 17 Oct 2024) EndedAt: 2024-10-17 08:04:05 -0400 (Thu, 17 Oct 2024) EllapsedTime: 43.6 seconds RetCode: 0 Status: OK PackageFile: lpsymphony_1.32.0.zip PackageFileSize: 2.726 MiB