Package: lpsymphony Version: 1.32.0 Command: /home/biocbuild/bbs-3.19-bioc/R/bin/R CMD check --install=check:lpsymphony.install-out.txt --library=/home/biocbuild/bbs-3.19-bioc/R/site-library --timings lpsymphony_1.32.0.tar.gz StartedAt: 2024-10-17 01:55:54 -0400 (Thu, 17 Oct 2024) EndedAt: 2024-10-17 01:56:22 -0400 (Thu, 17 Oct 2024) EllapsedTime: 28.1 seconds RetCode: 0 Status: WARNINGS CheckDir: lpsymphony.Rcheck Warnings: 1