Package: lpsymphony Version: 1.32.0 Command: /Library/Frameworks/R.framework/Resources/bin/R CMD INSTALL lpsymphony StartedAt: 2024-10-16 15:13:33 -0400 (Wed, 16 Oct 2024) EndedAt: 2024-10-16 15:30:51 -0400 (Wed, 16 Oct 2024) EllapsedTime: 1037.4 seconds RetCode: 0 Status: OK