Package: lpNet Version: 2.36.0 Command: /home/biocbuild/R/R-beta-2024-04-15_r86425/bin/R CMD check --install=check:lpNet.install-out.txt --library=/home/biocbuild/R/R-beta-2024-04-15_r86425/site-library --no-vignettes --timings lpNet_2.36.0.tar.gz StartedAt: 2024-05-09 08:54:57 -0000 (Thu, 09 May 2024) EndedAt: 2024-05-09 08:55:39 -0000 (Thu, 09 May 2024) EllapsedTime: 41.1 seconds RetCode: 0 Status: WARNINGS CheckDir: lpNet.Rcheck Warnings: 1