Package: lpNet Version: 2.36.0 Command: /Library/Frameworks/R.framework/Resources/bin/R CMD build --keep-empty-dirs --no-resave-data lpNet StartedAt: 2024-10-17 03:19:11 -0400 (Thu, 17 Oct 2024) EndedAt: 2024-10-17 03:19:53 -0400 (Thu, 17 Oct 2024) EllapsedTime: 42.2 seconds RetCode: 0 Status: OK PackageFile: lpNet_2.36.0.tar.gz PackageFileSize: 308 KiB