Package: lpNet Version: 2.36.0 Command: rm -rf lpNet.buildbin-libdir && mkdir lpNet.buildbin-libdir && /Users/biocbuild/BBS/utils/build-universal.sh lpNet_2.36.0.tar.gz /Library/Frameworks/R.framework/Resources/bin/R lpNet.buildbin-libdir StartedAt: 2024-10-18 19:10:59 -0400 (Fri, 18 Oct 2024) EndedAt: 2024-10-18 19:11:10 -0400 (Fri, 18 Oct 2024) EllapsedTime: 10.1 seconds RetCode: 0 Status: OK PackageFile: lpNet_2.36.0.tgz PackageFileSize: 404.9 KiB