Package: logicFS Version: 2.24.0 Command: E:\biocbuild\bbs-3.19-bioc\R\bin\R.exe CMD INSTALL logicFS StartedAt: 2024-10-16 17:01:09 -0400 (Wed, 16 Oct 2024) EndedAt: 2024-10-16 17:01:32 -0400 (Wed, 16 Oct 2024) EllapsedTime: 22.6 seconds RetCode: 0 Status: OK