Package: logicFS Version: 2.24.0 Command: rm -rf logicFS.buildbin-libdir && mkdir logicFS.buildbin-libdir && E:\biocbuild\bbs-3.19-bioc\R\bin\R.exe CMD INSTALL --build --library=logicFS.buildbin-libdir logicFS_2.24.0.tar.gz StartedAt: 2024-10-17 08:02:58 -0400 (Thu, 17 Oct 2024) EndedAt: 2024-10-17 08:03:26 -0400 (Thu, 17 Oct 2024) EllapsedTime: 27.6 seconds RetCode: 0 Status: OK PackageFile: logicFS_2.24.0.zip PackageFileSize: 512.9 KiB