Package: logicFS Version: 2.24.0 Command: rm -rf logicFS.buildbin-libdir && mkdir logicFS.buildbin-libdir && F:\biocbuild\bbs-3.19-bioc\R\bin\R.exe CMD INSTALL --build --library=logicFS.buildbin-libdir logicFS_2.24.0.tar.gz StartedAt: 2024-06-27 08:25:52 -0400 (Thu, 27 Jun 2024) EndedAt: 2024-06-27 08:26:19 -0400 (Thu, 27 Jun 2024) EllapsedTime: 27.4 seconds RetCode: 0 Status: OK PackageFile: logicFS_2.24.0.zip PackageFileSize: 513.2 KiB