Package: logicFS Version: 2.24.0 Command: /home/biocbuild/bbs-3.19-bioc/R/bin/R CMD build --keep-empty-dirs --no-resave-data logicFS StartedAt: 2024-10-16 19:12:51 -0400 (Wed, 16 Oct 2024) EndedAt: 2024-10-16 19:13:04 -0400 (Wed, 16 Oct 2024) EllapsedTime: 13.0 seconds RetCode: 0 Status: OK PackageFile: logicFS_2.24.0.tar.gz PackageFileSize: 150.4 KiB