Package: logicFS Version: 2.24.0 Command: /Library/Frameworks/R.framework/Resources/bin/R CMD INSTALL logicFS StartedAt: 2024-10-16 16:22:26 -0400 (Wed, 16 Oct 2024) EndedAt: 2024-10-16 16:22:50 -0400 (Wed, 16 Oct 2024) EllapsedTime: 23.7 seconds RetCode: 0 Status: OK