Package: logicFS Version: 2.24.0 Command: /Library/Frameworks/R.framework/Resources/bin/R CMD check --install=check:logicFS.install-out.txt --library=/Library/Frameworks/R.framework/Resources/library --no-vignettes --timings logicFS_2.24.0.tar.gz StartedAt: 2024-10-17 07:28:58 -0400 (Thu, 17 Oct 2024) EndedAt: 2024-10-17 07:31:15 -0400 (Thu, 17 Oct 2024) EllapsedTime: 137.1 seconds RetCode: 0 Status: OK CheckDir: logicFS.Rcheck Warnings: 0