Package: logicFS Version: 2.24.0 Command: /Library/Frameworks/R.framework/Resources/bin/R CMD build --keep-empty-dirs --no-resave-data logicFS StartedAt: 2024-10-16 20:25:54 -0400 (Wed, 16 Oct 2024) EndedAt: 2024-10-16 20:26:33 -0400 (Wed, 16 Oct 2024) EllapsedTime: 39.5 seconds RetCode: 0 Status: OK PackageFile: logicFS_2.24.0.tar.gz PackageFileSize: 260.1 KiB