Package: logicFS Version: 2.24.0 Command: rm -rf logicFS.buildbin-libdir && mkdir logicFS.buildbin-libdir && /Users/biocbuild/BBS/utils/build-universal.sh logicFS_2.24.0.tar.gz /Library/Frameworks/R.framework/Resources/bin/R logicFS.buildbin-libdir StartedAt: 2024-10-17 16:28:59 -0400 (Thu, 17 Oct 2024) EndedAt: 2024-10-17 16:29:23 -0400 (Thu, 17 Oct 2024) EllapsedTime: 24.0 seconds RetCode: 0 Status: OK PackageFile: logicFS_2.24.0.tgz PackageFileSize: 614.5 KiB