Package: logicFS Version: 2.24.0 Command: /home/biocbuild/R/R-beta-2024-04-15_r86425/bin/R CMD check --install=check:logicFS.install-out.txt --library=/home/biocbuild/R/R-beta-2024-04-15_r86425/site-library --no-vignettes --timings logicFS_2.24.0.tar.gz StartedAt: 2024-05-09 08:53:51 -0000 (Thu, 09 May 2024) EndedAt: 2024-05-09 08:54:57 -0000 (Thu, 09 May 2024) EllapsedTime: 66.1 seconds RetCode: 0 Status: OK CheckDir: logicFS.Rcheck Warnings: 0