Package: logicFS Version: 2.24.0 Command: /Library/Frameworks/R.framework/Resources/bin/R CMD check --install=check:logicFS.install-out.txt --library=/Library/Frameworks/R.framework/Resources/library --no-vignettes --timings logicFS_2.24.0.tar.gz StartedAt: 2024-10-18 02:13:40 -0400 (Fri, 18 Oct 2024) EndedAt: 2024-10-18 02:14:50 -0400 (Fri, 18 Oct 2024) EllapsedTime: 69.5 seconds RetCode: 0 Status: OK CheckDir: logicFS.Rcheck Warnings: 0