Package: logicFS Version: 2.24.0 Command: rm -rf logicFS.buildbin-libdir && mkdir logicFS.buildbin-libdir && /Users/biocbuild/BBS/utils/build-universal.sh logicFS_2.24.0.tar.gz /Library/Frameworks/R.framework/Resources/bin/R logicFS.buildbin-libdir StartedAt: 2024-10-18 19:10:41 -0400 (Fri, 18 Oct 2024) EndedAt: 2024-10-18 19:10:55 -0400 (Fri, 18 Oct 2024) EllapsedTime: 13.6 seconds RetCode: 0 Status: OK PackageFile: logicFS_2.24.0.tgz PackageFileSize: 614.6 KiB