Package: logicFS Version: 2.24.0 Maintainer: Holger Schwender MaintainerEmail: holger.schw at gmx.de git_url: https://git.bioconductor.org/packages/logicFS git_branch: RELEASE_3_19 git_last_commit: a8aaf0e git_last_commit_date: 2024-04-30 10:15:27 -0400 (Tue, 30 Apr 2024)