Package: loci2path Version: 1.24.0 Command: /Library/Frameworks/R.framework/Resources/bin/R CMD build --keep-empty-dirs --no-resave-data loci2path StartedAt: 2024-10-16 20:25:27 -0400 (Wed, 16 Oct 2024) EndedAt: 2024-10-16 20:26:22 -0400 (Wed, 16 Oct 2024) EllapsedTime: 55.6 seconds RetCode: 0 Status: OK PackageFile: loci2path_1.24.0.tar.gz PackageFileSize: 609.8 KiB