Package: loci2path Version: 1.24.0 Command: /Library/Frameworks/R.framework/Resources/bin/R CMD build --keep-empty-dirs --no-resave-data loci2path StartedAt: 2024-06-09 17:06:44 -0400 (Sun, 09 Jun 2024) EndedAt: 2024-06-09 17:07:09 -0400 (Sun, 09 Jun 2024) EllapsedTime: 24.8 seconds RetCode: 0 Status: OK PackageFile: loci2path_1.24.0.tar.gz PackageFileSize: 608.9 KiB