Package: loci2path Version: 1.24.0 Command: /home/biocbuild/R/R-beta-2024-04-15_r86425/bin/R CMD INSTALL loci2path StartedAt: 2024-05-08 20:22:51 -0000 (Wed, 08 May 2024) EndedAt: 2024-05-08 20:23:11 -0000 (Wed, 08 May 2024) EllapsedTime: 19.8 seconds RetCode: 0 Status: OK