Package: loci2path Version: 1.24.0 Command: /Library/Frameworks/R.framework/Resources/bin/R CMD build --keep-empty-dirs --no-resave-data loci2path StartedAt: 2024-06-09 23:37:53 -0400 (Sun, 09 Jun 2024) EndedAt: 2024-06-09 23:38:24 -0400 (Sun, 09 Jun 2024) EllapsedTime: 31.4 seconds RetCode: 0 Status: OK PackageFile: loci2path_1.24.0.tar.gz PackageFileSize: 609.9 KiB