Package: loci2path Version: 1.24.0 Command: rm -rf loci2path.buildbin-libdir && mkdir loci2path.buildbin-libdir && /Users/biocbuild/BBS/utils/build-universal.sh loci2path_1.24.0.tar.gz /Library/Frameworks/R.framework/Resources/bin/R loci2path.buildbin-libdir StartedAt: 2024-10-18 19:10:36 -0400 (Fri, 18 Oct 2024) EndedAt: 2024-10-18 19:10:55 -0400 (Fri, 18 Oct 2024) EllapsedTime: 19.1 seconds RetCode: 0 Status: OK PackageFile: loci2path_1.24.0.tgz PackageFileSize: 810.5 KiB