Package: loci2path Version: 1.24.0 Maintainer: Tianlei Xu MaintainerEmail: tianlei.xu at emory.edu git_url: https://git.bioconductor.org/packages/loci2path git_branch: RELEASE_3_19 git_last_commit: 515cc9a git_last_commit_date: 2024-04-30 11:02:48 -0400 (Tue, 30 Apr 2024)