Package: lisaClust Version: 1.12.3 Command: E:\biocbuild\bbs-3.19-bioc\R\bin\R.exe CMD INSTALL lisaClust StartedAt: 2024-10-16 17:22:47 -0400 (Wed, 16 Oct 2024) EndedAt: 2024-10-16 17:23:20 -0400 (Wed, 16 Oct 2024) EllapsedTime: 32.7 seconds RetCode: 0 Status: OK