Package: lisaClust Version: 1.12.3 Command: E:\biocbuild\bbs-3.19-bioc\R\bin\R.exe CMD check --no-multiarch --install=check:lisaClust.install-out.txt --library=E:\biocbuild\bbs-3.19-bioc\R\library --no-vignettes --timings lisaClust_1.12.3.tar.gz StartedAt: 2024-10-17 02:48:09 -0400 (Thu, 17 Oct 2024) EndedAt: 2024-10-17 02:52:44 -0400 (Thu, 17 Oct 2024) EllapsedTime: 274.6 seconds RetCode: 0 Status: OK CheckDir: lisaClust.Rcheck Warnings: 0