Package: lisaClust Version: 1.12.3 Command: chmod a+r lisaClust -R && E:\biocbuild\bbs-3.19-bioc\R\bin\R.exe CMD build --keep-empty-dirs --no-resave-data lisaClust StartedAt: 2024-10-16 20:00:19 -0400 (Wed, 16 Oct 2024) EndedAt: 2024-10-16 20:02:40 -0400 (Wed, 16 Oct 2024) EllapsedTime: 140.9 seconds RetCode: 0 Status: OK PackageFile: lisaClust_1.12.3.tar.gz PackageFileSize: 756.8 KiB