Package: lisaClust Version: 1.12.1 Command: F:\biocbuild\bbs-3.19-bioc\R\bin\R.exe CMD INSTALL lisaClust StartedAt: 2024-06-26 16:52:38 -0400 (Wed, 26 Jun 2024) EndedAt: 2024-06-26 16:53:16 -0400 (Wed, 26 Jun 2024) EllapsedTime: 37.9 seconds RetCode: 0 Status: OK