Package: lisaClust Version: 1.12.1 Command: F:\biocbuild\bbs-3.19-bioc\R\bin\R.exe CMD check --no-multiarch --install=check:lisaClust.install-out.txt --library=F:\biocbuild\bbs-3.19-bioc\R\library --no-vignettes --timings lisaClust_1.12.1.tar.gz StartedAt: 2024-06-27 03:04:46 -0400 (Thu, 27 Jun 2024) EndedAt: 2024-06-27 03:09:31 -0400 (Thu, 27 Jun 2024) EllapsedTime: 285.1 seconds RetCode: 0 Status: OK CheckDir: lisaClust.Rcheck Warnings: 0