Package: lisaClust Version: 1.12.1 Command: chmod a+r lisaClust -R && F:\biocbuild\bbs-3.19-bioc\R\bin\R.exe CMD build --keep-empty-dirs --no-resave-data lisaClust StartedAt: 2024-06-26 19:45:43 -0400 (Wed, 26 Jun 2024) EndedAt: 2024-06-26 19:46:59 -0400 (Wed, 26 Jun 2024) EllapsedTime: 76.4 seconds RetCode: 0 Status: OK PackageFile: lisaClust_1.12.1.tar.gz PackageFileSize: 713.8 KiB