Package: lisaClust Version: 1.12.3 Command: /home/biocbuild/bbs-3.19-bioc/R/bin/R CMD check --install=check:lisaClust.install-out.txt --library=/home/biocbuild/bbs-3.19-bioc/R/site-library --timings lisaClust_1.12.3.tar.gz StartedAt: 2024-10-17 01:54:14 -0400 (Thu, 17 Oct 2024) EndedAt: 2024-10-17 01:59:17 -0400 (Thu, 17 Oct 2024) EllapsedTime: 302.8 seconds RetCode: 0 Status: OK CheckDir: lisaClust.Rcheck Warnings: 0