Package: lisaClust Version: 1.12.3 Command: /Library/Frameworks/R.framework/Resources/bin/R CMD INSTALL lisaClust StartedAt: 2024-10-16 16:50:23 -0400 (Wed, 16 Oct 2024) EndedAt: 2024-10-16 16:51:26 -0400 (Wed, 16 Oct 2024) EllapsedTime: 63.6 seconds RetCode: 0 Status: OK