Package: lisaClust Version: 1.12.3 Command: /Library/Frameworks/R.framework/Resources/bin/R CMD build --keep-empty-dirs --no-resave-data lisaClust StartedAt: 2024-10-16 20:25:13 -0400 (Wed, 16 Oct 2024) EndedAt: 2024-10-16 20:29:27 -0400 (Wed, 16 Oct 2024) EllapsedTime: 253.8 seconds RetCode: 0 Status: OK PackageFile: lisaClust_1.12.3.tar.gz PackageFileSize: 2.024 MiB