Package: lisaClust Version: 1.12.0 Command: /Library/Frameworks/R.framework/Resources/bin/R CMD INSTALL lisaClust StartedAt: 2024-06-09 17:42:13 -0400 (Sun, 09 Jun 2024) EndedAt: 2024-06-09 17:42:25 -0400 (Sun, 09 Jun 2024) EllapsedTime: 12.5 seconds RetCode: 1 Status: ERROR