Package: lisaClust Version: 1.12.0 Command: /Library/Frameworks/R.framework/Resources/bin/R CMD build --keep-empty-dirs --no-resave-data lisaClust StartedAt: 2024-06-09 23:37:33 -0400 (Sun, 09 Jun 2024) EndedAt: 2024-06-09 23:37:49 -0400 (Sun, 09 Jun 2024) EllapsedTime: 15.5 seconds RetCode: 1 Status: ERROR PackageFile: None PackageFileSize: NA