Package: lisaClust Version: 1.12.3 Command: /Library/Frameworks/R.framework/Resources/bin/R CMD INSTALL lisaClust StartedAt: 2024-10-16 18:55:29 -0400 (Wed, 16 Oct 2024) EndedAt: 2024-10-16 18:56:01 -0400 (Wed, 16 Oct 2024) EllapsedTime: 32.3 seconds RetCode: 0 Status: OK