Package: lisaClust Version: 1.12.3 Command: /Library/Frameworks/R.framework/Resources/bin/R CMD check --install=check:lisaClust.install-out.txt --library=/Library/Frameworks/R.framework/Resources/library --no-vignettes --timings lisaClust_1.12.3.tar.gz StartedAt: 2024-10-18 02:10:37 -0400 (Fri, 18 Oct 2024) EndedAt: 2024-10-18 02:15:01 -0400 (Fri, 18 Oct 2024) EllapsedTime: 264.4 seconds RetCode: 0 Status: OK CheckDir: lisaClust.Rcheck Warnings: 0