Package: lisaClust Version: 1.12.3 Command: /Library/Frameworks/R.framework/Resources/bin/R CMD build --keep-empty-dirs --no-resave-data lisaClust StartedAt: 2024-10-17 03:17:36 -0400 (Thu, 17 Oct 2024) EndedAt: 2024-10-17 03:19:45 -0400 (Thu, 17 Oct 2024) EllapsedTime: 129.1 seconds RetCode: 0 Status: OK PackageFile: lisaClust_1.12.3.tar.gz PackageFileSize: 2.024 MiB