Package: lisaClust Version: 1.12.3 Command: rm -rf lisaClust.buildbin-libdir && mkdir lisaClust.buildbin-libdir && /Users/biocbuild/BBS/utils/build-universal.sh lisaClust_1.12.3.tar.gz /Library/Frameworks/R.framework/Resources/bin/R lisaClust.buildbin-libdir StartedAt: 2024-10-18 19:10:27 -0400 (Fri, 18 Oct 2024) EndedAt: 2024-10-18 19:11:09 -0400 (Fri, 18 Oct 2024) EllapsedTime: 41.6 seconds RetCode: 0 Status: OK PackageFile: lisaClust_1.12.3.tgz PackageFileSize: 2.101 MiB