Package: lipidr Version: 2.18.0 Command: E:\biocbuild\bbs-3.19-bioc\R\bin\R.exe CMD check --no-multiarch --install=check:lipidr.install-out.txt --library=E:\biocbuild\bbs-3.19-bioc\R\library --no-vignettes --timings lipidr_2.18.0.tar.gz StartedAt: 2024-10-17 02:47:32 -0400 (Thu, 17 Oct 2024) EndedAt: 2024-10-17 02:55:23 -0400 (Thu, 17 Oct 2024) EllapsedTime: 471.5 seconds RetCode: 0 Status: OK CheckDir: lipidr.Rcheck Warnings: 0