Package: lipidr Version: 2.18.0 Command: /home/biocbuild/bbs-3.19-bioc/R/bin/R CMD build --keep-empty-dirs --no-resave-data lipidr StartedAt: 2024-10-16 19:12:33 -0400 (Wed, 16 Oct 2024) EndedAt: 2024-10-16 19:13:24 -0400 (Wed, 16 Oct 2024) EllapsedTime: 51.1 seconds RetCode: 0 Status: OK PackageFile: lipidr_2.18.0.tar.gz PackageFileSize: 2.956 MiB