Package: lipidr Version: 2.18.0 Command: /Library/Frameworks/R.framework/Resources/bin/R CMD INSTALL lipidr StartedAt: 2024-10-16 16:36:56 -0400 (Wed, 16 Oct 2024) EndedAt: 2024-10-16 16:38:03 -0400 (Wed, 16 Oct 2024) EllapsedTime: 67.6 seconds RetCode: 0 Status: OK