Package: lipidr Version: 2.18.0 Command: /Library/Frameworks/R.framework/Resources/bin/R CMD check --install=check:lipidr.install-out.txt --library=/Library/Frameworks/R.framework/Resources/library --no-vignettes --timings lipidr_2.18.0.tar.gz StartedAt: 2024-10-17 07:27:05 -0400 (Thu, 17 Oct 2024) EndedAt: 2024-10-17 07:38:00 -0400 (Thu, 17 Oct 2024) EllapsedTime: 655.0 seconds RetCode: 0 Status: OK CheckDir: lipidr.Rcheck Warnings: 0