Package: lipidr Version: 2.18.0 Command: /Library/Frameworks/R.framework/Resources/bin/R CMD build --keep-empty-dirs --no-resave-data lipidr StartedAt: 2024-10-16 20:24:42 -0400 (Wed, 16 Oct 2024) EndedAt: 2024-10-16 20:26:52 -0400 (Wed, 16 Oct 2024) EllapsedTime: 130.0 seconds RetCode: 0 Status: OK PackageFile: lipidr_2.18.0.tar.gz PackageFileSize: 3.392 MiB